BEGIN:VCALENDAR
VERSION:2.0
PRODID:-//wp-events-plugin.com//7.2.3.1//EN
BEGIN:VEVENT
UID:167@wrap-school.ch
DTSTART:20240514T080000Z
DTEND:20240517T150000Z
DTSTAMP:20240503T060854Z
URL:https://www.wrap-school.ch/events/folieren-lernen/
SUMMARY:Car Wrapping Lehrgang LEGEND
DESCRIPTION:Car Wrapping Lehrgang LEGEND\nIn dieser 4-Tages-Schulung erlern
 en Sie alle Techniken des Car Wrappings\, um in der Lage zu sein\, eine Au
 tofolierung professionell durchzuführen. Der Kursus bereitet Sie ebenfall
 s auf eine mögliche Selbstständigkeit in der Branche vor.\n\n[su_box t
 itle="TAG 1" box_color="#1A4160" radius="2"]\nNach einer kurzen Vorstellun
 gsrunde mit kleinem Frühstück werden Sie umfassend in die Geheimnisse d
 er Folientechnik eingeweiht.\n\nSchwerpunkte sind:\nFACHBEZOGENE THEMEN\n\
 n 	Folienherstellung\n 	Material- und Werkzeugkunde\n 	Wahl des Materials 
 je nach Anwendung\n 	Adhäsionsverfahren\n 	Temperaturen\n 	Untergrundvorb
 ereitung\n 	Reinigung\n 	Applikationstechniken\n 	Schneidetechniken (am La
 ck\, auf Lack uvm.)\n\nGEWERBLICHE THEMEN\n\n 	Leitlinie zur Erstellung ei
 nes Businessplans\n 	Marketingplan\n 	Kalkulation\n 	allgemeine Selbststä
 ndigkeit als Foliererbetrieb\n 	Lieferanten mit Sonderkonditionen\n 	recht
 liche Fragen und Antworten\n\n\n\n\n*** Das Ziel des ersten Tages besteht 
 darin\, die Theorie zu erlernen und die Eigenschaften der Folien zu verste
 hen. Außerdem verfügen Sie am Ende dieser Einheit über alle notwendigen
  Informationen\, um ein eigenes Geschäft zu eröffnen oder in einem Werbe
 technik-Betrieb mitarbeiten zu können.\n\n[/su_box]\n[su_box title="TAG 2
 " box_color="#1A4160" radius="2"]\n\n\n\nAm zweiten Tag beginnen wir sofor
 t mit den praktischen Übungen\, um die Fertigkeiten sowie die damit verbu
 ndenen Folier-Techniken zu erlernen:\n\n 	Schnitttechniken auf dem Lack mi
 thilfe eines Cutters\n 	messerloses Schneiden ohne Cutter (Knifeless Tape)
 \n 	Verarbeitung der Folie an Ecken und Kanten\, saubere Zuschnitte\n 	Ver
 arbeitung und Dehnung an gewölbten Oberflächen\n 	Perfektionierung der R
 outine für den täglichen Gebrauch (inkl. Endverarbeitung und Temperierun
 g)\n 	diverse für den Car Wrapping-Bereich wichtige Rakel- und Applikatio
 nstechniken\n 	Applikation gegossener und monomerer Car Wrapping-Folien au
 f großen und kleinen Flächen\n 	Wiederholung von Übungen mit Folien ver
 schiedener Hersteller (für ein perfektes Ergebnis am Ende des Tages)\n 	Z
 wischenprüfung zwecks Abfrage und Kontrolle erlernter Inhalte\n\n\n\n\n**
 * Am Ende des zweiten Schulungstages sollten Sie die praktischen Fertigkei
 ten sowie Folier-Techniken erlernt haben.\n[/su_box]\n\n[su_box title="TAG
  3" box_color="#1A4160" radius="2"]\n\nAm dritten Tag der Schulung beschä
 ftigen wir uns mit den kompliziertesten Bauteilen am Fahrzeug. Hierzu geh
 ören Stoßstangen\, Spiegel\, Antennen und weitere dreidimensionale Objek
 te. Auch hier arbeiten wir mit Folien verschiedener Hersteller und lernen 
 deren Eigenschaften direkt in der Praxis.\n\nAus langjähriger Erfahrung g
 eben wir Ihnen Tipps zu Temperaturen\, der Weiterverarbeitung von Folien s
 owie zu allen möglichen Folier-Techniken. Prinzipiell folieren wir bereit
 s gemeinsam das erste Fahrzeug. Während der Schulungsleiter erklärt und 
 zeigt\, wiederholen die Teilnehmer gemeinsam alle Übungen.\n\n\n\n*** Jet
 zt sind Sie bereits soweit ein Auto folieren zu können.\n[/su_box]\n\n[su
 _box title="TAG 4" box_color="#1A4160" radius="2"]\n\n\n\nAm letzten Tag w
 ird das erste Fahrzeug vollverklebt – je nach Gruppengröße eventuell s
 ogar ein weiteres. Zwar steht der Schulungsleiter weiterhin zur Verfügung
 \, jedoch sind nun hauptsächlich Ihre Kenntnisse gefragt.\n\nGegen Nachmi
 ttag erfolgt eine abschließende Prüfung\, nach welcher Sie von uns zerti
 fiziert werden. Benotet wird mit einem Punktesystem von 0 bis 100 Punkten.
  Aber keine Sorge: Bislang hat noch jeder unserer Schulungsteilnehmer best
 anden.\n\n\n\nFAZIT\n*** In diesem 4-Tages-Seminar erarbeiten Sie im Team 
 eine bis zwei komplette Fahrzeugvollverklebungen. Durch den sehr hohen und
  auftragsbezogenen Praxisanteil ist der Lernerfolg sehr hoch. Dieser Kursu
 s empfiehlt sich für alle Anfänger ohne Erfahrung\, jedoch auch für Wer
 betechniker und Folierer\, die mit diesem faszinierenden Handwerk erfolgre
 ich werden möchten.\nJetzt werden Sie zertifiziert\n\n\n&nbsp\;\n\nDetail
 s:\nBeginn 9:00 Uhr\nEnde ca. 16:00 (an 4  Tagen)\n\n[/su_box]
ATTACH;FMTTYPE=image/jpeg:https://www.wrap-school.ch/wp-content/uploads/20
 24/03/car-wrapping-seminar.png
CATEGORIES:Car Wrapping Seminare
LOCATION:WRAP-SCHOOL Schweiz\, Riedstrasse 1b\, Zwingen\, SCHWEIZ\, 4222\, 
 Schweiz
GEO:47.429379;7.513417
X-APPLE-STRUCTURED-LOCATION;VALUE=URI;X-ADDRESS=Riedstrasse 1b\, Zwingen\, 
 SCHWEIZ\, 4222\, Schweiz;X-APPLE-RADIUS=100;X-TITLE=WRAP-SCHOOL Schweiz:ge
 o:47.429379,7.513417
END:VEVENT
END:VCALENDAR